BEGIN:VCALENDAR
VERSION:2.0
PRODID:icalendar-ruby
CALSCALE:GREGORIAN
METHOD:PUBLISH
BEGIN:VEVENT
DTSTAMP:20260422T161850Z
UID:117-1319803@greatercornerstonebc.org
DTSTART:20260425T140000Z
DTEND:20260426T170000Z
CLASS:PUBLIC
CREATED:20260419T145920
DESCRIPTION:Join Mayer Ted Green and the Department of Public Works for a C
 itywide Spring Cleanup &amp\; Free Shredding. Particiants must register at
  44 City Hall Plaza. There will also be a free continental breakfast and f
 ree t-shirts.
LAST-MODIFIED:20260419T145920
LOCATION:44 City Hall Plaza
SUMMARY:Citywide Spring Cleanup
URL;VALUE=URI:https://greatercornerstonebc.com/events/citywide-spring-clean
 up/2026-04-25
ATTACH;FILENAME=SpringCleanUp26.jpeg;FMTTYPE=image/jpeg:https://dq5pwpg1q8r
 u0.cloudfront.net/2026/04/19/18/56/53/e9f3cb5c-6e72-4c68-844a-e6abc2693bc5
 /SpringCleanUp26.jpeg
ATTACH;FILENAME=SpringCleanUp26.jpeg;FMTTYPE=image/jpeg:https://dq5pwpg1q8r
 u0.cloudfront.net/2026/04/19/18/58/31/03b34f96-e196-4eaa-a1a0-af3546232b5d
 /SpringCleanUp26.jpeg
END:VEVENT
END:VCALENDAR
