BEGIN:VCALENDAR
VERSION:2.0
PRODID:icalendar-ruby
CALSCALE:GREGORIAN
METHOD:PUBLISH
BEGIN:VEVENT
DTSTAMP:20260422T155635Z
UID:9-1333076@greatercornerstonebc.org
DTSTART:20261102T223000Z
DTEND:20261103T000000Z
CLASS:PUBLIC
CREATED:20260422T103704
DESCRIPTION:
LAST-MODIFIED:20260422T103704
LOCATION:
SUMMARY:Dance Ministry Rehearsal
URL;VALUE=URI:https://greatercornerstonebc.com/events/dance-ministry-rehear
 sal/2026-11-02
ATTACH;FILENAME=GCBC-DanceMinistry-Banner.jpg;FMTTYPE=image/jpeg:https://dq
 5pwpg1q8ru0.cloudfront.net/2024/05/28/19/26/57/c1cf889c-1ec4-4b0e-be10-3c4
 74b9ffbc1/GCBC-DanceMinistry-Banner.jpg
END:VEVENT
END:VCALENDAR
