BEGIN:VCALENDAR
VERSION:2.0
PRODID:icalendar-ruby
CALSCALE:GREGORIAN
METHOD:PUBLISH
BEGIN:VEVENT
DTSTAMP:20260420T162053Z
UID:5-1323903@greatercornerstonebc.org
DTSTART:20261025T150000Z
DTEND:20261025T160000Z
CLASS:PUBLIC
CREATED:20260420T100548
DESCRIPTION:Sunday Worship
LAST-MODIFIED:20260420T100548
LOCATION:
SUMMARY:Sunday Worship
URL;VALUE=URI:https://greatercornerstonebc.com/events/sunday-worship/2026-1
 0-25
ATTACH;FILENAME=GCBC-PastorCongregation.jpg;FMTTYPE=image/jpeg:https://dq5p
 wpg1q8ru0.cloudfront.net/2024/05/28/19/39/58/c5391cdd-53f3-45ac-9859-0839f
 7fd240b/GCBC-PastorCongregation.jpg
END:VEVENT
END:VCALENDAR
